Workbook

Sheet آمار کلی
A1: ردیف | B1: نام آموزشگاه | C1: تعداد | D1: آرایش دائم | E1: پاکسازی پوست
A2: 1 | B2: آناهید | C2: 1
A3: 2 | B3: آزاده محتشم | C3: 2
A4: 3 | B4: آرزو پاکرو | C4: 1
A5: 4 | B5: آزیتا پیرویس | C5: 1
A6: 5 | B6: الماس غرب | C6: 2
A7: 6 | B7: الی مو | C7: 10
A8: 7 | B8: بانوصفائیان | C8: 18 | E8: *
A9: 8 | B9: بانو هلیا | C9: 22 | D9: * | E9: *
A10: 9 | B10: بهار آرزو | C10: 1
A11: 10 | B11: بخشی | C11: 4
A12: 11 | B12: پریسان چهره | C12: 1
A13: 12 | B13: پریسا سرمست | C13: 9
A14: 13 | B14: پرگل | C14: 8
A15: 14 | B15: تاشین | C15: 11
A16: 15 | B16: تارای نوین | C16: 1
A17: 16 | B17: تینا کاظمی | C17: 1
A18: 17 | B18: ترلان | C18: 1
A19: 18 | B19: جلیلی | C19: 1
A20: 19 | B20: جعفرپناه | C20: 9 | D20: *
A21: 20 | B21: جباری | C21: 5
A22: 21 | B22: چیچک | C22: 2
A23: 22 | B23: حدیث | C23: 2
A24: 23 | B24: خلج زاده | C24: 15
A25: 24 | B25: خانه آرزوها | C25: 8
A26: 25 | B26: دنیای مهارت | C26: 5 | E26: *
A27: 26 | B27: دلدار | C27: 1
A28: 27 | B28: دلیل | C28: 5
A29: 28 | B29: راهبرد | C29: 1
A30: 29 | B30: رزا دهقان | C30: 3
A31: 30 | B31: رها دخت | C31: 1
A32: 31 | B32: رویای آبی | C32: 4
A33: 32 | B33: رافا | C33: 13 | E33: *
A34: 33 | B34: رها ایلیات | C34: 6
A35: 34 | B35: رنجبر | C35: 6
A36: 35 | B36: زینب جهانی | C36: 1
A37: 36 | B37: زیبا نقش | C37: 7
A38: 37 | B38: زهرا | C38: 1
A39: 38 | B39: زهرا حاتم مرنی | C39: 4 | E39: *
A40: 39 | B40: زهرا شمیعی شعبه یک | C40: 10
...

Sheet میزبان ها
A1: ='آمار کلی'!A1 -> ردیف | B1: ='آمار کلی'!B1 -> نام آموزشگاه | C1: ='آمار کلی'!C1 -> تعداد | D1: محل آزمون | E1: تاریخ آزمون | AA1: ='آمار کلی'!BS1 -> 0 | AB1: ='آمار کلی'!BT1 -> 0 | AC1: ='آمار کلی'!BU1 -> 0 | AD1: ='آمار کلی'!BV1 -> 0 | AE1: ='آمار کلی'!BW1 -> 0 | AF1: ='آمار کلی'!BX1 -> 0 | AG1: ='آمار کلی'!BY1 -> 0 | AH1: ='آمار کلی'!BZ1 -> 0 | ... XDL1: ='آمار کلی'!XFD1 -> 0
A2: 1 | B2: ='آمار کلی'!B7 -> الی مو | C2: ='آمار کلی'!C7 -> 10 | D2: الی مو | E2: 1405/07/26
A3: 2 | B3: ='آمار کلی'!B11 -> بخشی | C3: 4
A4: 3 | B4: بهار آرزو | C4: 1
A5: 4 | B5: ='آمار کلی'!B8 -> بانوصفائیان | C5: ='آمار کلی'!C8 -> 18 | D5: =$B$5 -> بانوصفائیان | E5: 1405/07/26
A6: 5 | B6: ='آمار کلی'!B9 -> بانو هلیا | C6: ='آمار کلی'!C9 -> 22 | D6: =$B$6 -> بانو هلیا | E6: 1405/07/25
A7: 6 | B7: ='آمار کلی'!B13 -> پریسا سرمست | C7: ='آمار کلی'!C13 -> 9 | D7: =$B$7 -> پریسا سرمست | E7: 1405/07/26
A8: 7 | B8: ='آمار کلی'!B32 -> رویای آبی | C8: ='آمار کلی'!C32 -> 4
A9: 8 | B9: ='آمار کلی'!B45 -> سارا طیبان | C9: ='آمار کلی'!C45 -> 2
A10: 9 | B10: پرگل | C10: ='آمار کلی'!C14 -> 8 | D10: پرگل | E10: 1405/07/27
A11: 10 | B11: ='آمار کلی'!B54 -> سرای ونوس | C11: ='آمار کلی'!C54 -> 4
A12: 11 | B12: ='آمار کلی'!B61 -> صنم | C12: ='آمار کلی'!C61 -> 3
A13: 12 | B13: ='آمار کلی'!B15 -> تاشین | C13: ='آمار کلی'!C15 -> 11 | D13: تاشین | E13: 1405/07/27
A14: 13 | B14: ='آمار کلی'!B62 -> ضرابی شعبه 1 | C14: ='آمار کلی'!C62 -> 4
A15: 14 | B15: ='آمار کلی'!B20 -> جعفرپناه | C15: ='آمار کلی'!C20 -> 9 | D15: =$B$15 -> جعفرپناه | E15: 1405/07/27
A16: 15 | B16: ='آمار کلی'!B48 -> سپهری | C16: ='آمار کلی'!C48 -> 1
A17: 16 | B17: ='آمار کلی'!B42 -> سرای ماندگار | C17: ='آمار کلی'!C42 -> 1
A18: 17 | B18: ='آمار کلی'!B83 -> مهرجو | C18: ='آمار کلی'!C83 -> 2
A19: 18 | B19: ='آمار کلی'!B21 -> جباری | C19: ='آمار کلی'!C21 -> 5 | D19: جباری | E19: 1405/07/28
A20: 19 | B20: ='آمار کلی'!B27 -> دلدار | C20: ='آمار کلی'!C27 -> 1
A21: 20 | B21: ='آمار کلی'!B29 -> راهبرد | C21: ='آمار کلی'!C29 -> 1
A22: 21 | B22: ='آمار کلی'!B30 -> رزا دهقان | C22: ='آمار کلی'!C30 -> 3
A23: 22 | B23: ='آمار کلی'!B24 -> خلج زاده | C23: ='آمار کلی'!C24 -> 15 | D23: =$B$23 -> خلج زاده | E23: 1405/07/28
A24: 23 | B24: خانه آرزوها | C24: ='آمار کلی'!C25 -> 8 | D24: =$B$24 -> خانه آرزوها | E24: 1405/07/28
A25: 24 | B25: ='آمار کلی'!B102 -> هنر رویایی | C25: ='آمار کلی'!C102 -> 1
A26: 25 | B26: ='آمار کلی'!B103 -> همتی | C26: ='آمار کلی'!C103 -> 1
A27: 26 | B27: ='آمار کلی'!B105 -> یگانه حاجی علی | C27: ='آمار کلی'!C105 -> 3
A28: 27 | B28: ='آمار کلی'!B28 -> دلیل | C28: ='آمار کلی'!C28 -> 5 | D28: =$B$28 -> دلیل | E28: 1405/07/29
A29: 28 | B29: ='آمار کلی'!B97 -> نیکی | C29: ='آمار کلی'!C97 -> 2
A30: 29 | B30: ='آمار کلی'!B98 -> نیکا | C30: ='آمار کلی'!C98 -> 1
A31: 30 | B31: ='آمار کلی'!B99 -> نارتا | C31: ='آمار کلی'!C99 -> 1
A32: 31 | B32: ='آمار کلی'!B100 -> نینوش | C32: ='آمار کلی'!C100 -> 2
A33: 32 | B33: ='آمار کلی'!B33 -> رافا | C33: ='آمار کلی'!C33 -> 13 | D33: =$B$33 -> رافا | E33: 1405/07/29
A34: 33 | B34: ='آمار کلی'!B78 -> گلناز رخ | C34: ='آمار کلی'!C78 -> 1
A35: 34 | B35: ='آمار کلی'!B80 -> گلامور | C35: ='آمار کلی'!C80 -> 1
A36: 35 | B36: ='آمار کلی'!B95 -> نعنا گل | C36: ='آمار کلی'!C95 -> 2
A37: 36 | B37: ='آمار کلی'!B34 -> رها ایلیات | C37: ='آمار کلی'!C34 -> 6 | D37: =$B$37 -> رها ایلیات | E37: 1405/07/29
A38: 37 | B38: ='آمار کلی'!B85 -> مرجان جهان آبادیان | C38: ='آمار کلی'!C85 -> 2
A39: 38 | B39: ='آمار کلی'!B86 -> ماه بانو مفیددتهران | C39: ='آمار کلی'!C86 -> 1
A40: 39 | B40: ='آمار کلی'!B87 -> مهرورز | C40: ='آمار کلی'!C87 -> 1
...

Sheet Sheet1
