Workbook

Sheet آمار کلی
A1: ردیف | B1: نام آموزشگاه | C1: تعداد | D1: آرایش دائم | E1: پاکسازی پوست
A2: 1 | B2: آناهید | C2: 1
A3: 2 | B3: آزاده محتشم | C3: 2
A4: 3 | B4: آرزو پاکرو | C4: 1
A5: 4 | B5: آزیتا پیرویس | C5: 1
A6: 5 | B6: الماس غرب | C6: 2
A7: 6 | B7: الی مو | C7: 10
A8: 7 | B8: بانوصفائیان | C8: 18 | E8: *
A9: 8 | B9: بانو هلیا | C9: 22 | D9: * | E9: *
A10: 9 | B10: بهار آرزو | C10: 1
A11: 10 | B11: بخشی | C11: 4
A12: 11 | B12: پریسان چهره | C12: 1
A13: 12 | B13: پریسا سرمست | C13: 9
A14: 13 | B14: پرگل | C14: 8
A15: 14 | B15: تاشین | C15: 11
A16: 15 | B16: تارای نوین | C16: 1
A17: 16 | B17: تینا کاظمی | C17: 1
A18: 17 | B18: ترلان | C18: 1
A19: 18 | B19: جلیلی | C19: 1
A20: 19 | B20: جعفرپناه | C20: 9 | D20: *
A21: 20 | B21: جباری | C21: 5
A22: 21 | B22: چیچک | C22: 2
A23: 22 | B23: حدیث | C23: 2
A24: 23 | B24: خلج زاده | C24: 15
A25: 24 | B25: خانه آرزوها | C25: 8
A26: 25 | B26: دنیای مهارت | C26: 5 | E26: *
A27: 26 | B27: دلدار | C27: 1
A28: 27 | B28: دلیل | C28: 5
A29: 28 | B29: راهبرد | C29: 1
A30: 29 | B30: رزا دهقان | C30: 3
A31: 30 | B31: رها دخت | C31: 1
A32: 31 | B32: رویای آبی | C32: 4
A33: 32 | B33: رافا | C33: 13 | E33: *
A34: 33 | B34: رها ایلیات | C34: 6
A35: 34 | B35: رنجبر | C35: 6
A36: 35 | B36: زینب جهانی | C36: 1
A37: 36 | B37: زیبا نقش | C37: 7
A38: 37 | B38: زهرا | C38: 1
A39: 38 | B39: زهرا حاتم مرنی | C39: 4 | E39: *
A40: 39 | B40: زهرا شمیعی شعبه یک | C40: 10
A41: 40 | B41: سرای هنر | C41: 2 | E41: *
A42: 41 | B42: سرای ماندگار | C42: 1 | D42: *
A43: 42 | B43: سیمای فاخته | C43: 1
A44: 43 | B44: سرای سپیده | C44: 1
A45: 44 | B45: سارا طیبان | C45: 2
A46: 45 | B46: سحر اقتصادی | C46: 1
A47: 46 | B47: سارا مددی | C47: 1
A48: 47 | B48: سپهری | C48: 1 | D48: *
A49: 48 | B49: سفیران زیبایی بهرام | C49: 2
A50: 49 | B50: سارا دلوئی | C50: 8 | E50: *
A51: 50 | B51: سیمای یاسمن | C51: 2 | E51: *
A52: 51 | B52: ستایش برتر | C52: 3 | E52: *
A53: 52 | B53: سراقی | C53: 9 | E53: *
A54: 53 | B54: سرای ونوس | C54: 4
A55: 54 | B55: سیمای درخشنده | C55: 7
A56: 55 | B56: سیمای هانی | C56: 44
A57: 56 | B57: سیمای هانی شعبه یک | C57: 67 | D57: * | E57: *
A58: 57 | B58: شیما اردا | C58: 11 | D58: *
A59: 58 | B59: شادلین آرا | C59: 1
A60: 59 | B60: شقایق بخشی | C60: 1
A61: 60 | B61: صنم | C61: 3
A62: 61 | B62: ضرابی شعبه 1 | C62: 4
A63: 62 | B63: ظرافت | C63: 1
A64: 63 | B64: عالیه | C64: 6
A65: 64 | B65: فرزانه رزاقی | C65: 7 | E65: *
A66: 65 | B66: فاطمه خلیلی | C66: 2 | E66: *
A67: 66 | B67: فاطمه مستوفی | C67: 1
A68: 67 | B68: فامی رژ | C68: 1
A69: 68 | B69: فاطمه اعظمی | C69: 1 | E69: *
A70: 69 | B70: فرزانه آجورلو | C70: 15
A71: 70 | B71: فاخته علی اکبری | C71: 106 | E71: *
A72: 71 | B72: فرشته محبی تبار | C72: 3 | E72: *
A73: 72 | B73: قصر مانلی | C73: 11 | E73: *
A74: 73 | B74: قصرگلجین | C74: 7 | E74: *
A75: 74 | B75: کاراماه | C75: 3 | E75: *
A76: 75 | B76: کیمیای هنر | C76: 1
A77: 76 | B77: کلبه آرزوهای طلایی | C77: 3
A78: 77 | B78: گلناز رخ | C78: 1 | E78: *
A79: 78 | B79: گل آرا یوز باشی | C79: 2
A80: 79 | B80: گلامور | C80: 1 | E80: *
A81: 80 | B81: گیتی علی پناهی | C81: 2
A82: 81 | B82: مهرسانا | C82: 1
A83: 82 | B83: مهرجو | C83: 2 | D83: *
A84: 83 | B84: مریم منصوری | C84: 3 | E84: *
A85: 84 | B85: مرجان جهان آبادیان | C85: 2
A86: 85 | B86: ماه بانو مفیددتهران | C86: 1
A87: 86 | B87: مهرورز | C87: 1
A88: 87 | B88: مریم محرابی | C88: 2
A89: 88 | B89: محبوبه کیانی | C89: 2
A90: 89 | B90: ماهناک | C90: 5
A91: 90 | B91: مونیز | C91: 1 | E91: *
A92: 91 | B92: مهستان | C92: 71 | E92: *
A93: 92 | B93: ندا دوستی | C93: 1
A94: 93 | B94: نگین مولودی | C94: 2 | E94: *
A95: 94 | B95: نعنا گل | C95: 2 | E95: *
A96: 95 | B96: ناهید آقا جان زاده | C96: 1
A97: 96 | B97: نیکی | C97: 2
A98: 97 | B98: نیکا | C98: 1
A99: 98 | B99: نارتا | C99: 1
A100: 99 | B100: نینوش | C100: 2
...

Sheet میزبان ها
A1: ='آمار کلی'!A1 -> ردیف | B1: ='آمار کلی'!B1 -> نام آموزشگاه | C1: ='آمار کلی'!C1 -> تعداد | D1: محل آزمون | E1: تاریخ آزمون | AA1: ='آمار کلی'!BS1 -> 0 | AB1: ='آمار کلی'!BT1 -> 0 | AC1: ='آمار کلی'!BU1 -> 0 | AD1: ='آمار کلی'!BV1 -> 0 | AE1: ='آمار کلی'!BW1 -> 0 | AF1: ='آمار کلی'!BX1 -> 0 | AG1: ='آمار کلی'!BY1 -> 0 | AH1: ='آمار کلی'!BZ1 -> 0 | ... XDL1: ='آمار کلی'!XFD1 -> 0
A2: 1 | B2: ='آمار کلی'!B7 -> الی مو | C2: ='آمار کلی'!C7 -> 10 | D2: الی مو | E2: 1405/07/26
A3: 2 | B3: ='آمار کلی'!B11 -> بخشی | C3: 4
A4: 3 | B4: بهار آرزو | C4: 1
A5: 4 | B5: ='آمار کلی'!B8 -> بانوصفائیان | C5: ='آمار کلی'!C8 -> 18 | D5: =$B$5 -> بانوصفائیان | E5: 1405/07/26
A6: 5 | B6: ='آمار کلی'!B9 -> بانو هلیا | C6: ='آمار کلی'!C9 -> 22 | D6: =$B$6 -> بانو هلیا | E6: 1405/07/25
A7: 6 | B7: ='آمار کلی'!B13 -> پریسا سرمست | C7: ='آمار کلی'!C13 -> 9 | D7: =$B$7 -> پریسا سرمست | E7: 1405/07/26
A8: 7 | B8: ='آمار کلی'!B32 -> رویای آبی | C8: ='آمار کلی'!C32 -> 4
A9: 8 | B9: ='آمار کلی'!B45 -> سارا طیبان | C9: ='آمار کلی'!C45 -> 2
A10: 9 | B10: پرگل | C10: ='آمار کلی'!C14 -> 8 | D10: پرگل | E10: 1405/07/27
A11: 10 | B11: ='آمار کلی'!B54 -> سرای ونوس | C11: ='آمار کلی'!C54 -> 4
A12: 11 | B12: ='آمار کلی'!B61 -> صنم | C12: ='آمار کلی'!C61 -> 3
A13: 12 | B13: ='آمار کلی'!B15 -> تاشین | C13: ='آمار کلی'!C15 -> 11 | D13: تاشین | E13: 1405/07/27
A14: 13 | B14: ='آمار کلی'!B62 -> ضرابی شعبه 1 | C14: ='آمار کلی'!C62 -> 4
A15: 14 | B15: ='آمار کلی'!B20 -> جعفرپناه | C15: ='آمار کلی'!C20 -> 9 | D15: =$B$15 -> جعفرپناه | E15: 1405/07/27
A16: 15 | B16: ='آمار کلی'!B48 -> سپهری | C16: ='آمار کلی'!C48 -> 1
A17: 16 | B17: ='آمار کلی'!B42 -> سرای ماندگار | C17: ='آمار کلی'!C42 -> 1
A18: 17 | B18: ='آمار کلی'!B83 -> مهرجو | C18: ='آمار کلی'!C83 -> 2
A19: 18 | B19: ='آمار کلی'!B21 -> جباری | C19: ='آمار کلی'!C21 -> 5 | D19: جباری | E19: 1405/07/28
A20: 19 | B20: ='آمار کلی'!B27 -> دلدار | C20: ='آمار کلی'!C27 -> 1
A21: 20 | B21: ='آمار کلی'!B29 -> راهبرد | C21: ='آمار کلی'!C29 -> 1
A22: 21 | B22: ='آمار کلی'!B30 -> رزا دهقان | C22: ='آمار کلی'!C30 -> 3
A23: 22 | B23: ='آمار کلی'!B24 -> خلج زاده | C23: ='آمار کلی'!C24 -> 15 | D23: =$B$23 -> خلج زاده | E23: 1405/07/28
A24: 23 | B24: خانه آرزوها | C24: ='آمار کلی'!C25 -> 8 | D24: =$B$24 -> خانه آرزوها | E24: 1405/07/28
A25: 24 | B25: ='آمار کلی'!B102 -> هنر رویایی | C25: ='آمار کلی'!C102 -> 1
A26: 25 | B26: ='آمار کلی'!B103 -> همتی | C26: ='آمار کلی'!C103 -> 1
A27: 26 | B27: ='آمار کلی'!B105 -> یگانه حاجی علی | C27: ='آمار کلی'!C105 -> 3
A28: 27 | B28: ='آمار کلی'!B28 -> دلیل | C28: ='آمار کلی'!C28 -> 5 | D28: =$B$28 -> دلیل | E28: 1405/07/29
A29: 28 | B29: ='آمار کلی'!B97 -> نیکی | C29: ='آمار کلی'!C97 -> 2
A30: 29 | B30: ='آمار کلی'!B98 -> نیکا | C30: ='آمار کلی'!C98 -> 1
A31: 30 | B31: ='آمار کلی'!B99 -> نارتا | C31: ='آمار کلی'!C99 -> 1
A32: 31 | B32: ='آمار کلی'!B100 -> نینوش | C32: ='آمار کلی'!C100 -> 2
A33: 32 | B33: ='آمار کلی'!B33 -> رافا | C33: ='آمار کلی'!C33 -> 13 | D33: =$B$33 -> رافا | E33: 1405/07/29
A34: 33 | B34: ='آمار کلی'!B78 -> گلناز رخ | C34: ='آمار کلی'!C78 -> 1
A35: 34 | B35: ='آمار کلی'!B80 -> گلامور | C35: ='آمار کلی'!C80 -> 1
A36: 35 | B36: ='آمار کلی'!B95 -> نعنا گل | C36: ='آمار کلی'!C95 -> 2
A37: 36 | B37: ='آمار کلی'!B34 -> رها ایلیات | C37: ='آمار کلی'!C34 -> 6 | D37: =$B$37 -> رها ایلیات | E37: 1405/07/29
A38: 37 | B38: ='آمار کلی'!B85 -> مرجان جهان آبادیان | C38: ='آمار کلی'!C85 -> 2
A39: 38 | B39: ='آمار کلی'!B86 -> ماه بانو مفیددتهران | C39: ='آمار کلی'!C86 -> 1
A40: 39 | B40: ='آمار کلی'!B87 -> مهرورز | C40: ='آمار کلی'!C87 -> 1
A41: 40 | B41: ='آمار کلی'!B88 -> مریم محرابی | C41: ='آمار کلی'!C88 -> 2
A42: 41 | B42: ='آمار کلی'!B35 -> رنجبر | C42: ='آمار کلی'!C35 -> 6 | D42: =$B$42 -> رنجبر | E42: 1405/07/15
A43: 42 | B43: ='آمار کلی'!B76 -> کیمیای هنر | C43: ='آمار کلی'!C76 -> 1
A44: 43 | B44: ='آمار کلی'!B77 -> کلبه آرزوهای طلایی | C44: ='آمار کلی'!C77 -> 3
A45: 44 | B45: ='آمار کلی'!B37 -> زیبا نقش | C45: ='آمار کلی'!C37 -> 7 | D45: =$B$45 -> زیبا نقش | E45: 1405/07/15
A46: 45 | B46: ='آمار کلی'!B19 -> جلیلی | C46: ='آمار کلی'!C19 -> 1
A47: 46 | B47: ='آمار کلی'!B22 -> چیچک | C47: ='آمار کلی'!C22 -> 2
A48: 47 | B48: ='آمار کلی'!B23 -> حدیث | C48: ='آمار کلی'!C23 -> 2
A49: 48 | B49: ='آمار کلی'!B40 -> زهرا شمیعی شعبه یک | C49: ='آمار کلی'!C40 -> 10 | D49: =$B$49 -> زهرا شمیعی شعبه یک | E49: 1405/07/15
A50: 49 | B50: ='آمار کلی'!B63 -> ظرافت | C50: ='آمار کلی'!C63 -> 1
A51: 50 | B51: ='آمار کلی'!B67 -> فاطمه مستوفی | C51: ='آمار کلی'!C67 -> 1
A52: 51 | B52: ='آمار کلی'!B68 -> فامی رژ | C52: ='آمار کلی'!C68 -> 1
A53: 52 | B53: ='آمار کلی'!B50 -> سارا دلوئی | C53: ='آمار کلی'!C50 -> 8 | D53: سارا حیدری دلوئی | E53: 1405/07/18
A54: 53 | B54: ='آمار کلی'!B39 -> زهرا حاتم مرنی | C54: ='آمار کلی'!C39 -> 4
A55: 54 | B55: ='آمار کلی'!B26 -> دنیای مهارت | C55: ='آمار کلی'!C26 -> 5
A56: 55 | B56: ='آمار کلی'!B53 -> سراقی | C56: ='آمار کلی'!C53 -> 9 | D56: =$B$56 -> سراقی | E56: 1405/07/18
A57: 56 | B57: ='آمار کلی'!B84 -> مریم منصوری | C57: ='آمار کلی'!C84 -> 3
A58: 57 | B58: ='آمار کلی'!B91 -> مونیز | C58: ='آمار کلی'!C91 -> 1
A59: 58 | B59: ='آمار کلی'!B41 -> سرای هنر | C59: 4
A60: 59 | B60: ='آمار کلی'!B55 -> سیمای درخشنده | C60: ='آمار کلی'!C55 -> 7 | D60: =$B$60 -> سیمای درخشنده | E60: 1405/07/18
A61: 60 | B61: ='آمار کلی'!B3 -> آزاده محتشم | C61: ='آمار کلی'!C3 -> 2
A62: 61 | B62: ='آمار کلی'!B4 -> آرزو پاکرو | C62: ='آمار کلی'!C4 -> 1
A63: 62 | B63: ='آمار کلی'!B5 -> آزیتا پیرویس | C63: ='آمار کلی'!C5 -> 1
A64: 63 | B64: ='آمار کلی'!B6 -> الماس غرب | C64: ='آمار کلی'!C6 -> 2
A65: 64 | B65: ='آمار کلی'!B56 -> سیمای هانی | C65: ='آمار کلی'!C56 -> 44 | D65: =$B$65 -> سیمای هانی | E65: 1405/07/19-20
A66: 65 | B66: ='آمار کلی'!B57 -> سیمای هانی شعبه یک | C66: ='آمار کلی'!C57 -> 67 | D66: =$B$66 -> سیمای هانی شعبه یک | E66: 1405/07/22-21
A67: 66 | B67: ='آمار کلی'!B58 -> شیما اردا | C67: ='آمار کلی'!C58 -> 11 | D67: =$B$67 -> شیما اردا | E67: 1405/07/19
A68: 67 | B68: ='آمار کلی'!B81 -> گیتی علی پناهی | C68: ='آمار کلی'!C81 -> 2
A69: 68 | B69: ='آمار کلی'!B82 -> مهرسانا | C69: ='آمار کلی'!C82 -> 1
A70: 69 | B70: ='آمار کلی'!B79 -> گل آرا یوز باشی | C70: ='آمار کلی'!C79 -> 2
A71: 70 | B71: ='آمار کلی'!B64 -> عالیه | C71: ='آمار کلی'!C64 -> 6 | D71: =$B$71 -> عالیه | E71: 1405/07/19
A72: 71 | B72: ='آمار کلی'!B12 -> پریسان چهره | C72: ='آمار کلی'!C12 -> 1
A73: 72 | B73: فاطمه عنبرستانی(تعویض گواهینامه) | C73: ='آمار کلی'!C16 -> 1
A74: 73 | B74: ='آمار کلی'!B17 -> تینا کاظمی | C74: ='آمار کلی'!C17 -> 1
A75: 74 | B75: ='آمار کلی'!B18 -> ترلان | C75: ='آمار کلی'!C18 -> 1
A76: 75 | B76: ='آمار کلی'!B65 -> فرزانه رزاقی | C76: ='آمار کلی'!C65 -> 7 | D76: =$B$76 -> فرزانه رزاقی | E76: 1405/07/20
A77: 76 | B77: ='آمار کلی'!B51 -> سیمای یاسمن | C77: ='آمار کلی'!C51 -> 2
A78: 77 | B78: ='آمار کلی'!B101 -> نیلوفر شهیدی اصل | C78: ='آمار کلی'!C101 -> 4
A79: 78 | B79: ='آمار کلی'!B52 -> ستایش برتر | C79: ='آمار کلی'!C52 -> 3
A80: 79 | B80: ='آمار کلی'!B70 -> فرزانه آجورلو | C80: ='آمار کلی'!C70 -> 15 | D80: =$B$80 -> فرزانه آجورلو | E80: 1405/07/20
A81: 80 | B81: ='آمار کلی'!B71 -> فاخته علی اکبری | C81: ='آمار کلی'!C71 -> 106 | D81: =$B$81 -> فاخته علی اکبری | E81: 1405/07/14-15
A82: 81 | B82: ='آمار کلی'!B73 -> قصر مانلی | C82: ='آمار کلی'!C73 -> 11 | D82: =$B$82 -> قصر مانلی | E82: 1405/07/21
A83: 82 | B83: ='آمار کلی'!B75 -> کاراماه | C83: ='آمار کلی'!C75 -> 3
A84: 83 | B84: ='آمار کلی'!B94 -> نگین مولودی | C84: ='آمار کلی'!C94 -> 2
A85: 84 | B85: ='آمار کلی'!B74 -> قصرگلجین | C85: ='آمار کلی'!C74 -> 7 | D85: قصر گلچین | E85: 1405/07/21
A86: 85 | B86: ='آمار کلی'!B69 -> فاطمه اعظمی | C86: ='آمار کلی'!C69 -> 1
A87: 86 | B87: ='آمار کلی'!B72 -> فرشته محبی تبار | C87: ='آمار کلی'!C72 -> 3
A88: 87 | B88: ='آمار کلی'!B66 -> فاطمه خلیلی | C88: ='آمار کلی'!C66 -> 2
A89: 88 | B89: ='آمار کلی'!B90 -> ماهناک | C89: ='آمار کلی'!C90 -> 5 | D89: =$B$89 -> ماهناک | E89: 1405/07/22
A90: 89 | B90: ='آمار کلی'!B96 -> ناهید آقا جان زاده | C90: ='آمار کلی'!C96 -> 1
A91: 90 | B91: ='آمار کلی'!B93 -> ندا دوستی | C91: ='آمار کلی'!C93 -> 1
A92: 91 | B92: ='آمار کلی'!B89 -> محبوبه کیانی | C92: ='آمار کلی'!C89 -> 2
A93: 92 | B93: ='آمار کلی'!B49 -> سفیران زیبایی بهرام | C93: ='آمار کلی'!C49 -> 2
A94: 93 | B94: ='آمار کلی'!B92 -> مهستان | C94: ='آمار کلی'!C92 -> 71 | D94: مهستان | E94: 1405/07/21-22
A95: 94 | B95: =$D$95 -> هنر ویونا | C95: ='آمار کلی'!C104 -> 6 | D95: ='آمار کلی'!B104 -> هنر ویونا | E95: 1405/07/25
A96: 95 | B96: ='آمار کلی'!B44 -> سرای سپیده | C96: ='آمار کلی'!C44 -> 1
A97: 96 | B97: ='آمار کلی'!B46 -> سحر اقتصادی | C97: ='آمار کلی'!C46 -> 1
A98: 97 | B98: ='آمار کلی'!B47 -> سارا مددی | C98: ='آمار کلی'!C47 -> 1
A99: 98 | B99: ='آمار کلی'!B59 -> شادلین آرا | C99: ='آمار کلی'!C59 -> 1
A100: 99 | B100: ='آمار کلی'!B60 -> شقایق بخشی | C100: ='آمار کلی'!C60 -> 1
...

Sheet Sheet1
